8.000000000
0.000000
0.000000
-8.000000000
494536.86807337
151197.42527639
