8.000000000
0.000000
0.000000
-8.000000000
494458.71479537
151265.46676378
