8.000000000
0.000000
0.000000
-8.000000000
494465.36843100
151243.11817441
