8.000000000
0.000000
0.000000
-8.000000000
494464.01550162
151238.81792353
