8.000000000
0.000000
0.000000
-8.000000000
494463.77767966
151224.92531682
