8.000000000
0.000000
0.000000
-8.000000000
494395.05760544
151171.44182353
