8.000000000
0.000000
0.000000
-8.000000000
494419.10090198
151218.27872214
