8.000000000
0.000000
0.000000
-8.000000000
494479.87047783
151118.72630589
