8.000000000
0.000000
0.000000
-8.000000000
494416.87332170
151100.65833891
