8.000000000
0.000000
0.000000
-8.000000000
494412.33876426
151097.33903414
