8.000000000
0.000000
0.000000
-8.000000000
494418.37241799
151088.58888086
