8.000000000
0.000000
0.000000
-8.000000000
530429.75022947
169590.90742307
