8.000000000
0.000000
0.000000
-8.000000000
526582.69335801
156505.77707212
