8.000000000
0.000000
0.000000
-8.000000000
526556.28055847
156523.69174079
