8.000000000
0.000000
0.000000
-8.000000000
526535.94609245
156497.37654281
