8.000000000
0.000000
0.000000
-8.000000000
526542.29864582
156494.21320072
