8.000000000
0.000000
0.000000
-8.000000000
526215.24618563
156522.18880066
