8.000000000
0.000000
0.000000
-8.000000000
526205.47155319
156524.15809485
