8.000000000
0.000000
0.000000
-8.000000000
526216.14544140
156508.28224667
