8.000000000
0.000000
0.000000
-8.000000000
526209.71577921
156504.96212723
