8.000000000
0.000000
0.000000
-8.000000000
526097.63510796
155716.39882452
