8.000000000
0.000000
0.000000
-8.000000000
526099.88673283
155726.56220688
