8.000000000
0.000000
0.000000
-8.000000000
526070.67056844
155759.64337942
