8.000000000
0.000000
0.000000
-8.000000000
526066.85871396
155761.54167547
