8.000000000
0.000000
0.000000
-8.000000000
526072.91485035
155769.18924938
