8.000000000
0.000000
0.000000
-8.000000000
514023.75056709
157822.59712848
