8.000000000
0.000000
0.000000
-8.000000000
514040.38431038
157854.79009135
