8.000000000
0.000000
0.000000
-8.000000000
512935.25633819
156960.84294093
