8.000000000
0.000000
0.000000
-8.000000000
514061.17449171
156425.66137029
