8.000000000
0.000000
0.000000
-8.000000000
514064.25925369
156433.02974473
