8.000000000
0.000000
0.000000
-8.000000000
514030.35083414
156445.54502272
