8.000000000
0.000000
0.000000
-8.000000000
514041.03206414
156432.42657392
