8.000000000
0.000000
0.000000
-8.000000000
514060.78192708
156167.81549808
