8.000000000
0.000000
0.000000
-8.000000000
514043.65909119
156177.31789620
