8.000000000
0.000000
0.000000
-8.000000000
514061.53483210
155976.96426849
