8.000000000
0.000000
0.000000
-8.000000000
514050.55198309
155968.47058937
