8.000000000
0.000000
0.000000
-8.000000000
514033.63541519
155962.22114188
