8.000000000
0.000000
0.000000
-8.000000000
514031.93577911
155962.55360234
