8.000000000
0.000000
0.000000
-8.000000000
514680.45973319
155812.12956060
