8.000000000
0.000000
0.000000
-8.000000000
514664.74435552
155784.86316018
