8.000000000
0.000000
0.000000
-8.000000000
515403.13776884
155800.64679383
