8.000000000
0.000000
0.000000
-8.000000000
515383.57005603
155818.51652517
