8.000000000
0.000000
0.000000
-8.000000000
517263.42456815
155374.94226250
