8.000000000
0.000000
0.000000
-8.000000000
517268.91932222
155387.52955031
