8.000000000
0.000000
0.000000
-8.000000000
517292.38367221
155389.68590852
