8.000000000
0.000000
0.000000
-8.000000000
517324.20326629
155379.37854218
