8.000000000
0.000000
0.000000
-8.000000000
517325.84541285
155374.72456024
