8.000000000
0.000000
0.000000
-8.000000000
517190.25192950
158641.50822733
