8.000000000
0.000000
0.000000
-8.000000000
517194.12962136
158644.85308569
