8.000000000
0.000000
0.000000
-8.000000000
517183.44154931
158657.65733137
